BEGIN:VCALENDAR
VERSION:2.0
PRODID:-//Eventin//Event Calendar//EN
CALSCALE:GREGORIAN
METHOD:PUBLISH
BEGIN:VEVENT
UID:341d7292213d1b63495037d95967f7ce@designthinkingacademy.id
SUMMARY:Sertifikasi Design Thinking for Professional
DESCRIPTION:Kelas sertifikasi design thinking for professional ini dirancan
 g khusus bagi profesional bisnis\, manajer\, dan pemimpin organisasi yang i
 ngin mengembangkan strategi inovatif berbasis Customer-Centricity. \n\nMela
 lui pendekatan Customer-Centric Ecosystem Design\, Anda akan diajak untuk m
 engidentifikasi peluang bisnis dengan menggunakan tools praktis seperti Emp
 athy Map\, Customer Journey Map\, dan Business Model Canvas. \n\nPenerapan 
 Agile Business Transformation dengan Scrum dan Kanban akan memperkuat kemam
 puan Anda dalam merespons perubahan pasar secara cepat dan fleksibel\, deng
 an dukungan studi kasus dari ekosistem bisnis terkemuka seperti Tokopedia d
 an GoTo. \n\n \n\n🎯 Mengapa Sertifikasi Ini Sangat Direkomendasikan :
  \n\n\nMeningkatkan kemampuan inovasi berbasis pelanggan untuk menciptakan
  nilai berkelanjutan. \n\nMengoptimalkan strategi agile dalam merespons di
 namika pasar yang cepat.\n\nMembangun ekosistem bisnis yang adaptif dengan 
 pendekatan Customer-Centric. \n\nMemperkuat daya saing melalui penerapan t
 ools praktis yang langsung diimplementasikan di dunia nyata.\n\n\n \n\n
 💡 Apa yang Akan Kamu Pelajari : \n\n\nMengembangkan Inovasi Berbasis Pe
 langganPelajari cara mendesain strategi inovatif melalui pendekatan Custome
 r-Centric Ecosystem Design yang menghasilkan nilai berkelanjutan dan keungg
 ulan kompetitif di pasar.\n\nMenguasai Alat Analisis PelangganGunakan tools
  seperti Empathy Map\, Customer Journey Map\, dan Business Model Canvas unt
 uk memahami kebutuhan pelanggan secara mendalam dan mengidentifikasi peluan
 g bisnis.\n\nMenerapkan Metodologi AgileKuasai teknik Agile Business Transf
 ormation melalui Scrum\, Kanban\, dan alat agile lainnya untuk merespons pe
 rubahan pasar dengan cepat dan efektif.\n\nMengaplikasikan Kerangka Kerja S
 trategisTerapkan kerangka Double Diamond dan North Star Metric untuk menyel
 araskan inovasi dengan tujuan bisnis secara sistematis.\n\nIntegrasi Teori 
 dan Praktik NyataAnalisis studi kasus dari perusahaan terkemuka seperti eFi
 shery\, Tokopedia\, dan GoTo\, sehingga Anda dapat langsung menerapkan peng
 etahuan yang didapat untuk menghasilkan dampak nyata dalam organisasi.\n\n\
 n \n\n👥 Siapa Peserta yang Cocok Mengikuti Kelas Ini :\n\n\nProfesional
  bisnis\, manajer\, dan pemimpin organisasi yang ingin mengoptimalkan inova
 si berbasis pelanggan.\n\nEksekutif yang berfokus pada penerapan strategi a
 gile untuk merespons dinamika pasar.\n\nPraktisi yang tertarik menggunakan 
 tools praktis seperti Empathy Map\, Customer Journey Map\, dan Business Mod
 el Canvas.\n\nIndividu yang ingin meningkatkan kemampuan dalam menciptakan 
 ekosistem bisnis yang adaptif dan berkelanjutan.\n\n\n \n\n🎁 Apa Manfaa
 t yang Akan Anda Peroleh :\n\n\nMempelajari Design Thinking sebagai mindset
  di semua bidang\n\nKesempatan berpartisipasi dalam berbagai kegiatan atau 
 inisiatif berbasis Design Thinking dalam ekosistem The Local Enablers\n\nTe
 rgabung ke dalam ekosistem The Local Enablers\n\nTergabung ke Asosiasi Desi
 gn Thinking Indonesia\n\n \n📜 Syarat dan Ketentuan :1. Pendaftaran dan 
 Kelayakan- Program ini terbuka untuk profesional\, akademisi\, pembuat kebi
 jakan\, dan pendidik yang tertarik dengan penerapan Design Thinking.- Pemba
 yaran biaya sertifikasi harus diselesaikan maksimal H-10 sebelum program di
 mulai.2. Pelaksanaan Program- Peserta wajib mengikuti seluruh sesi pembelaj
 aran\, baik secara online maupun offline\, sesuai dengan jadwal yang telah 
 ditentukan.- Modul dan materi pembelajaran hanya boleh digunakan untuk kepe
 rluan pribadi dan tidak boleh diperbanyak atau didistribusikan tanpa izin r
 esmi dari penyelenggara.3. Kriteria Kelulusan dan Sertifikasi- Sertifikasi 
 diberikan kepada peserta yang menyelesaikan seluruh modul\, mengikuti evalu
 asi\, dan memenuhi kriteria kompetensi yang telah ditetapkan.- Terdapat dua
  jenis sertifikat yang diberikan\, yaitu Certificate of Completion (bagi pe
 serta yang telah menyelesaikan program) dan Certificate of Competence (bagi
  peserta yang lulus asesmen kompetensi).4. Pembayaran dan Kebijakan Pengemb
 alian Dana- Biaya sertifikasi yang telah dibayarkan bersifat non-refundable
  kecuali terjadi pembatalan program oleh penyelenggara.- Jika peserta ingin
  melakukan perubahan jadwal atau batch\, permintaan harus diajukan paling l
 ambat 10 hari sebelum program dimulai.\n\n\n\n \n\n \n \n\n\n \n \n\nV
 iew this post on Instagram\n\n \n\n\n \n \n \n\n\n \n \n\n\n \n \n
  \n\n\n\n \n \n\nA post shared by Design Thinking Academy Indonesia (@si
 lver-otter-260546.hostingersite.com)\n\n\n 
LOCATION:Bandung\, Jawa Barat
DTSTAMP:20260422T143146Z
DTSTART:20260512T010000Z
DTEND:20260513T100000Z
END:VEVENT
END:VCALENDAR
