BEGIN:VCALENDAR
VERSION:2.0
PRODID:-//Eventin//Event Calendar//EN
CALSCALE:GREGORIAN
METHOD:PUBLISH
BEGIN:VEVENT
UID:16ae37c8f3173aba529a5f2e60a0e2b2@designthinkingacademy.id
SUMMARY:Dual Track Certification
DESCRIPTION:Program ini bertujuan memberikan kombinasi kompetensi strategis
  dalam Design Thinking serta pengakuan resmi sebagai Fasilitator KKNI Level
  3 melalui kerjasama antara Design Thinking Academy (DTA) dan BNSP. Program
  ini memastikan peserta tidak hanya menguasai framework Design Thinking\, t
 etapi juga memiliki sertifikasi nasional yang diakui untuk mengelola proses
  pembelajaran\, pelatihan\, maupun pendampingan di berbagai konteks profesi
 onal.\nSertifikasi Dual Track dirancang untuk memperkuat kapasitas fasilita
 tor\, trainer\, maupun akademisi dalam menyampaikan pembelajaran inovatif b
 erbasis Design Thinking\, sekaligus meningkatkan kredibilitas dengan sertif
 ikasi BNSP. Dengan demikian\, peserta memperoleh dua pengakuan kompetensi s
 ekaligus dalam satu program.\n \nApa yang akan dipelajari\n\nMenganalisis 
 mindset dan prinsip Design Thinking untuk merancang pelatihan yang empatik 
 dan relevan.\nMerancang\, mengevaluasi dan mengembangkan kebutuhan peserta 
 dalam menciptakan pelatihan yang kontekstual dan berdampak dengan framework
  Design Thinking dan sesuai dengan Standar Kompetensi Kerja Nasional Indone
 sia.\n\n \nProgram Journey\n\nPre learning (Asynchronous via LMS)\nOffline
  Workshop 4 hari\nAsesmen/uji kompetensi\n\nUjian dilakukan dalam 2 jalur a
 sesmen:\n\nDesign Thinking Certification (oleh DTA)1. 30 menit asesmen peng
 etahuan (tes tulis).2. 30 menit asesmen keterampilan (presentasi dengan ase
 sor)Fasilitator KKNI Level 3 (oleh BNSP)1. Ujian portofolio & wawancara kom
 petensi.2. Simulasi fasilitasi dengan asesor BNSP.*Durasi keseluruhan asesm
 en: 2 jam\n\n\n 
LOCATION:Bandung\, Jawa Barat
DTSTAMP:20260422T143147Z
DTSTART:20260519T010000Z
DTEND:20260522T100000Z
END:VEVENT
END:VCALENDAR
